BEGIN:VCALENDAR
VERSION:2.0
PRODID:-//Jazzclub Leipzig e.V. //NONSGML Events //EN
CALSCALE:GREGORIAN
X-WR-CALNAME:Jazzclub Leipzig e.V.
BEGIN:VEVENT
X-CREATED:20210601T120501Z
UID:21725
DTEND;VALUE=DATE:20210610T220000
DTSTART;VALUE=DATE:20210610T200000
DTSTAMP:20260420T233106Z
LOCATION:Werkcafé im Kulturhof Gohlis
DESCRIPTION:„Tempo und Rhythmik verändern sich stetig, permanente Instabilität und immer an der Kante!“ so Saxofonist Mark Weschenfelder über die Band.
SUMMARY:GLOTZE
ORGANIZER:Jazzclub Leipzig e.V.
URL;VALUE=URI:https://www.jazzclub-leipzig.de/kategorie-jazzclub/jazzclub-termine/jazzclub-termine-konzert/glotze-2/
TRANSP:OPAQUE
BEGIN:VALARM
ACTION:DISPLAY
TRIGGER;VALUE=DATE-TIME:20210610T190000Z
DESCRIPTION:Erinnerung an GLOTZE
END:VALARM
END:VEVENT
END:VCALENDAR
