BEGIN:VCALENDAR
VERSION:2.0
PRODID:-//Jazzclub Leipzig e.V. //NONSGML Events //EN
CALSCALE:GREGORIAN
X-WR-CALNAME:Jazzclub Leipzig e.V.
BEGIN:VEVENT
X-CREATED:20200827T103600Z
UID:1650
DTEND;VALUE=DATE:20200929T230000
DTSTART;VALUE=DATE:20200929T210000
DTSTAMP:20260421T001935Z
LOCATION:Ostpassagen-Theater
DESCRIPTION:Di, 29.9. Ostpassagen-Theater 21:00 Uhr; Matthias Boguth (voc), Valentin Gerhardus (synth), Max Stadtfeld (dr) ; Voranmeldungen auf www.ost-passage-theater.de. Eintritt frei, Spenden erbeten
SUMMARY:Matthias Boguth – HMT-Abschlusskonzert
ORGANIZER:Jazzclub Leipzig e.V.
URL;VALUE=URI:https://www.jazzclub-leipzig.de/kategorie-jazzclub/jazzclub-termine/matthias-boguth-hmt-abschlusskonzert/
TRANSP:OPAQUE
BEGIN:VALARM
ACTION:DISPLAY
TRIGGER;VALUE=DATE-TIME:20200929T200000Z
DESCRIPTION:Erinnerung an Matthias Boguth – HMT-Abschlusskonzert
END:VALARM
END:VEVENT
END:VCALENDAR
