BEGIN:VCALENDAR
VERSION:2.0
PRODID:-//Jazzclub Leipzig e.V. //NONSGML Events //EN
CALSCALE:GREGORIAN
X-WR-CALNAME:Jazzclub Leipzig e.V.
BEGIN:VEVENT
X-CREATED:20200827T103900Z
UID:1647
DTEND;VALUE=DATE:20200913T210000
DTSTART;VALUE=DATE:20200913T190000
DTSTAMP:20260420T222023Z
LOCATION:die naTo
DESCRIPTION:So, 13.9. die naTo 19:00 & 21:00 Uhr; Hans Arnold (dr), Konni Behrendt (g), Christian Dähne (b); VVK 10/6 € zzgl. Gebühr bei die naTo
SUMMARY:Christian Dähne – HMT-Abschlusskonzert
ORGANIZER:Jazzclub Leipzig e.V.
URL;VALUE=URI:https://www.jazzclub-leipzig.de/kategorie-jazzclub/jazzclub-termine/christian-daehne-hmt-abschlusskonzert/
TRANSP:OPAQUE
BEGIN:VALARM
ACTION:DISPLAY
TRIGGER;VALUE=DATE-TIME:20200913T180000Z
DESCRIPTION:Erinnerung an Christian Dähne – HMT-Abschlusskonzert
END:VALARM
END:VEVENT
END:VCALENDAR
