BEGIN:VCALENDAR
VERSION:2.0
PRODID:-//Jazzclub Leipzig e.V. //NONSGML Events //EN
CALSCALE:GREGORIAN
X-WR-CALNAME:Jazzclub Leipzig e.V.
BEGIN:VEVENT
X-CREATED:20190129T220900Z
UID:1540
DTEND;VALUE=DATE:20191106T233000
DTSTART;VALUE=DATE:20191106T213000
DTSTAMP:20260421T073950Z
LOCATION:
DESCRIPTION:Mi 6.11. Liveclub Telegraph 20:30 Uhr ; Marjolaine Locher (vl), Josefine Andronic (vl), Johannes Dittmar (vla, comp), Isabelle Klemt (vlc), Dmitrij Golovanov (p), Marc Muellbauer (kb), Beat Freisen (dr, perc, comp); <a href="https://www.culton.de/jazzclub-live-beat-freisens-spelunkenorchester-leipzig.html" rel="external">; ; VVK 14/10 € zzgl. Gebühr bei Culton</a>, AK 16/12 €
SUMMARY:Beat Freisens Spelunkenorchester
ORGANIZER:Jazzclub Leipzig e.V.
URL;VALUE=URI:https://www.jazzclub-leipzig.de/kategorie-jazzclub/jazzclub-termine/beat-freisens-spelunkenorchester/
TRANSP:OPAQUE
BEGIN:VALARM
ACTION:DISPLAY
TRIGGER;VALUE=DATE-TIME:20191106T203000Z
DESCRIPTION:Erinnerung an Beat Freisens Spelunkenorchester
END:VALARM
END:VEVENT
END:VCALENDAR
