BEGIN:VCALENDAR
VERSION:2.0
PRODID:-//Jazzclub Leipzig e.V. //NONSGML Events //EN
CALSCALE:GREGORIAN
X-WR-CALNAME:Jazzclub Leipzig e.V.
BEGIN:VEVENT
X-CREATED:20201124T152500Z
UID:11655
DTEND;VALUE=DATE:20201205T223000
DTSTART;VALUE=DATE:20201205T203000
DTSTAMP:20260421T001921Z
LOCATION:Online
DESCRIPTION:MusikZeit: »Alle Register – die Orgel im Jazz«  
SUMMARY:Jazzclub Leipzig präsentiert: Werner Neumann Electric Trio
ORGANIZER:Jazzclub Leipzig e.V.
URL;VALUE=URI:https://www.jazzclub-leipzig.de/kategorie-jazzkalender/jazzkalender-termine/jazzclub-leipzig-praesentiert-werner-neumann-electric-trio/
TRANSP:OPAQUE
BEGIN:VALARM
ACTION:DISPLAY
TRIGGER;VALUE=DATE-TIME:20201205T193000Z
DESCRIPTION:Erinnerung an Jazzclub Leipzig präsentiert: Werner Neumann Electric Trio
END:VALARM
END:VEVENT
END:VCALENDAR
