BEGIN:VCALENDAR
VERSION:2.0
PRODID:-//Jazzclub Leipzig e.V. //NONSGML Events //EN
CALSCALE:GREGORIAN
X-WR-CALNAME:Jazzclub Leipzig e.V.
BEGIN:VEVENT
X-CREATED:20200218T091300Z
UID:11506
DTEND;VALUE=DATE:20201205T220000
DTSTART;VALUE=DATE:20201205T200000
DTSTAMP:20260420T233003Z
LOCATION:Neues Schauspiel
DESCRIPTION:Jazz-Rock, R&B und Soul
SUMMARY:Werner Neumann Electric Trio
ORGANIZER:Jazzclub Leipzig e.V.
URL;VALUE=URI:https://www.jazzclub-leipzig.de/kategorie-jazzclub/werner-neumann-electric-trio-3/
TRANSP:OPAQUE
BEGIN:VALARM
ACTION:DISPLAY
TRIGGER;VALUE=DATE-TIME:20201205T190000Z
DESCRIPTION:Erinnerung an Werner Neumann Electric Trio
END:VALARM
END:VEVENT
END:VCALENDAR
