BEGIN:VCALENDAR
VERSION:2.0
PRODID:-//Jazzclub Leipzig e.V. //NONSGML Events //EN
CALSCALE:GREGORIAN
X-WR-CALNAME:Jazzclub Leipzig e.V.
BEGIN:VEVENT
X-CREATED:20200218T091000Z
UID:11503
DTEND;VALUE=DATE:20201205T180000
DTSTART;VALUE=DATE:20201205T160000
DTSTAMP:20260421T011814Z
LOCATION:Neues Schauspiel
DESCRIPTION:Ein Familienkonzert mit und über die Hammondorgel
SUMMARY:Von Induktionsrädern, Preacher Cords und Rock’n’Roll
ORGANIZER:Jazzclub Leipzig e.V.
URL;VALUE=URI:https://www.jazzclub-leipzig.de/kategorie-jazzclub/von-induktionsraedern-preacher-cords-und-rocknroll-2/
TRANSP:OPAQUE
BEGIN:VALARM
ACTION:DISPLAY
TRIGGER;VALUE=DATE-TIME:20201205T150000Z
DESCRIPTION:Erinnerung an Von Induktionsrädern\, Preacher Cords und Rock’n’Roll
END:VALARM
END:VEVENT
END:VCALENDAR
